BEGIN:VCALENDAR
VERSION:2.0
PRODID:-//wp-events-plugin.com//5.99912//EN
TZID:Europe/Berlin
X-WR-TIMEZONE:Europe/Berlin
BEGIN:VEVENT
UID:0-1097@isny.albverein.eu
DTSTART;TZID=Europe/Berlin:20260426T133000
DTEND;TZID=Europe/Berlin:20260426T180000
DTSTAMP:20260419T180201Z
URL:https://isny.albverein.eu/events/rundwanderung-herlazhofen/
SUMMARY:Rundwanderung Herlazhofen
DESCRIPTION:Treffpunkt:  13:30 Uhr auf dem Parkplatz an der Rotmooshalle i
 n Isny zur Bildung von Fahrgemeinschaften nach Herlazhofen.\n\nAm Dorfpla
 tz in Herlazhofen starten wir zu einer Rundwanderung über Straßen\, Fors
 t- und Feldwege. Empfohlen wird festes Schuhwerk sowie Wanderstöcke.\nEin
 e freiwillige Schlusseinkehr im Center Parcs Allgäu ohne Reservierung ist
  vorgesehen.\n\nGehzeit:  2\,5 Std.\nWegstrecke:  ca. 9 km\nHöhenunters
 chied:  ca. 100 Meter\nWanderführer:  Renate und Meinrad Sailer\n\nAnme
 ldung:bis Freitag\, 24. April\, 18 Uhr unter Tel. 07562-1290 oder per E-Ma
 il an priboth@albverein-isny.de\n\nGäste sind wie immer herzlich willkomm
 en.\nDie Teilnahme ist auf eigene Gefahr.
LOCATION:Treffpunkt\, Parkplatz Rotmoos Sporthalle\, Isny\, 88316\, Deutsch
 land
GEO:47.69329;10.0326
X-APPLE-STRUCTURED-LOCATION;VALUE=URI;X-ADDRESS=Parkplatz Rotmoos Sporthall
 e\, Isny\, 88316\, Deutschland;X-APPLE-RADIUS=100;X-TITLE=Treffpunkt:geo:4
 7.69329,10.0326
END:VEVENT
BEGIN:VTIMEZONE
TZID:Europe/Berlin
X-LIC-LOCATION:Europe/Berlin
BEGIN:DAYLIGHT
DTSTART:20260329T030000
TZOFFSETFROM:+0100
TZOFFSETTO:+0200
TZNAME:CEST
END:DAYLIGHT
END:VTIMEZONE
END:VCALENDAR