BEGIN:VCALENDAR
VERSION:2.0
PRODID:-//wp-events-plugin.com//5.99912//EN
TZID:Europe/Berlin
X-WR-TIMEZONE:Europe/Berlin
BEGIN:VEVENT
UID:42-1018@isny.albverein.eu
DTSTART;TZID=Europe/Berlin:20290321T100000
DTEND;TZID=Europe/Berlin:20290321T110000
DTSTAMP:20241204T195650Z
URL:https://isny.albverein.eu/events/nordic-walking-lauftreff-2029-03-21/
SUMMARY:Nordic Walking Lauftreff
DESCRIPTION:Immer Mittwochs um 10 Uhr treffen wir uns zum Nordic-Walking. E
 s geht etwa 1 Stunde  rund um Isny. Treffpunkt ist am Parkplatz an der K
 äseküche.\n\nAnsprechpartner ist Anita Kruck\n\nZur Abstimmung gibt es d
 iese WhatsApp-Gruppe:\nhttps://chat.whatsapp.com/LFQotsSR85jK9V8BF6v1uq\n\
 n&nbsp\;\n\n\n\nDabei sind die Datenschutzregeln von WhatsApp zu beachten!
LOCATION:Parkplatz Käseküche\, Maierhöfener Str. 78\, Isny\, 88316\, Deu
 tschland
GEO:47.682472;10.040519
X-APPLE-STRUCTURED-LOCATION;VALUE=URI;X-ADDRESS=Maierhöfener Str. 78\, Isn
 y\, 88316\, Deutschland;X-APPLE-RADIUS=100;X-TITLE=Parkplatz Käseküche:g
 eo:47.682472,10.040519
END:VEVENT
BEGIN:VTIMEZONE
TZID:Europe/Berlin
X-LIC-LOCATION:Europe/Berlin
BEGIN:STANDARD
DTSTART:20281029T020000
TZOFFSETFROM:+0200
TZOFFSETTO:+0100
TZNAME:CET
END:STANDARD
END:VTIMEZONE
END:VCALENDAR