BEGIN:VCALENDAR
VERSION:2.0
PRODID:-//wp-events-plugin.com//5.99912//EN
TZID:Europe/Berlin
X-WR-TIMEZONE:Europe/Berlin
BEGIN:VEVENT
UID:0-1089@isny.albverein.eu
DTSTART;TZID=Europe/Berlin;VALUE=DATE:20260603
DTEND;TZID=Europe/Berlin;VALUE=DATE:20260608
DTSTAMP:20251213T095148Z
URL:https://isny.albverein.eu/events/mehrtageswanderung-am-rennsteig/
SUMMARY:Mehrtageswanderung am Rennsteig
DESCRIPTION:Wir wandern rund um Masserberg im Thüringer Wald\nMittwoch 03.
  Juni\nDie Anreise erfolgt direkt nach Masserberg ins Quartier\; anschlie
 ßend noch eine kleine Rundwanderung zur Werraquelle mit dem Aussichtsturm
  „Rennsteigwarte“\nInsgesamt                     
                                      
                   6\,5 km 100 Hm\nDonnerstag 04. Juni\nWa
 nderung ins benachbarte „Goldisthal“ mit Aussichtspunkt ICE-Strecke\nI
 nsgesamt                                 
                                      
       10 km 300 Hm\nFreitag 05. Juni\nHeute wandern wir zur „Eisfel
 der Ausspanne“ (kürzere Variante mit Rückfahrmöglichkeit vorhanden)\n
 Insgesamt                                 
                                      
       16 km 300 Hm\nSamstag 06. Juni\nWanderung in die „Gießübler
  Schweiz“ und Triniusbaude mit\nInsgesamt                
                                      
                        10 km 300 Hm\nSonntag 07. Jun
 i\nNach dem Frühstück geht die Fahrt nach Frauenwald mit Besichtigung de
 s dortigen Bunkermuseums – ostdeutsche Geschichte entdecken\, anschließ
 end Heimfahrt!\n\nTourenänderungen möglich\n\nUnser Hotel:\n\n„Ferien 
 Residenz Thüringer Wald“ mit Halbpension Plus* im EZ/DZ (Travdo-Hotels.
 de) Pro Person ab 299\,- € /4 Nächte (je nach Zimmerkategorie)  zzgl. 
 Kurtaxe. (Hotel ist direkt vor Ort zu bezahlen)\n\nVerpflegung:   für d
 as tägliche Rucksackvesper ist vor Ort eine Einkaufsmöglichkeit vorhande
 n\n\nFahrtkosten:    wird über die Fahrgemeinschaft abgerechnet (~100\
 ,-€)\n\nAnmeldung bitte an:\nManfred Mühleisen (OG Wangen)       
       savwangenallg@gmx.de\nJürgen Tischer  (OG Isny)         
                  tischer@albverein-isny.de
END:VEVENT
BEGIN:VTIMEZONE
TZID:Europe/Berlin
X-LIC-LOCATION:Europe/Berlin
BEGIN:DAYLIGHT
DTSTART:20260329T030000
TZOFFSETFROM:+0100
TZOFFSETTO:+0200
TZNAME:CEST
END:DAYLIGHT
END:VTIMEZONE
END:VCALENDAR