BEGIN:VCALENDAR
VERSION:2.0
PRODID:-//wp-events-plugin.com//5.99912//EN
TZID:Europe/Berlin
X-WR-TIMEZONE:Europe/Berlin
BEGIN:VEVENT
UID:0-1113@isny.albverein.eu
DTSTART;TZID=Europe/Berlin:20261121T140000
DTEND;TZID=Europe/Berlin:20261121T170000
DTSTAMP:20260104T101936Z
URL:https://isny.albverein.eu/events/albvereinsnachmittag/
SUMMARY:Gesellgiger Albvereinsnachmittag
DESCRIPTION:Details folgen
LOCATION:Paul-Fagius Haus\, Marktplatz 12\, Isny\, 88316\, Deutschland
GEO:47.6920359;10.038979599999948
X-APPLE-STRUCTURED-LOCATION;VALUE=URI;X-ADDRESS=Marktplatz 12\, Isny\, 8831
 6\, Deutschland;X-APPLE-RADIUS=100;X-TITLE=Paul-Fagius Haus:geo:47.6920359
 ,10.038979599999948
END:VEVENT
BEGIN:VTIMEZONE
TZID:Europe/Berlin
X-LIC-LOCATION:Europe/Berlin
BEGIN:STANDARD
DTSTART:20261025T020000
TZOFFSETFROM:+0200
TZOFFSETTO:+0100
TZNAME:CET
END:STANDARD
END:VTIMEZONE
END:VCALENDAR